BEGIN:VCALENDAR
VERSION:2.0
PRODID:-//Wafo Ministries - ECPv5.1.2.1//NONSGML v1.0//EN
CALSCALE:GREGORIAN
METHOD:PUBLISH
X-WR-CALNAME:Wafo Ministries
X-ORIGINAL-URL:https://wafoministries.net
X-WR-CALDESC:Évènements pour Wafo Ministries
BEGIN:VTIMEZONE
TZID:Africa/Abidjan
BEGIN:STANDARD
TZOFFSETFROM:+0000
TZOFFSETTO:+0000
TZNAME:GMT
DTSTART:20240101T000000
END:STANDARD
END:VTIMEZONE
BEGIN:VEVENT
DTSTART;TZID=Africa/Abidjan:20241110T070000
DTEND;TZID=Africa/Abidjan:20241110T083000
DTSTAMP:20260421T101808
CREATED:20241108T210613Z
LAST-MODIFIED:20241108T210613Z
UID:28755-1731222000-1731227400@wafoministries.net
SUMMARY:1ER CULTE D'ADORATION
DESCRIPTION:Nous sommes en direct tous les dimanches afin de vivre des moments intenses de louange\, ✨d’adoration à notre Dieu\, et d’enseignement ✨avec des Hommes de Dieu oints. Sur la chaîne du Temple de la Foi\, l’Autel de la Vie✨\n\n\n\n\n\n\n\nLE CONDUCTEUR\nMESSAGES À ÉCOUTER\n\n\n\n
URL:https://wafoministries.net/programme/1er-culte-dadoration-140/
LOCATION:TEMPLE DE LA FOI\, TEMPLE DE LA FOI\, Abidjan\, Abidjan\, Côte d'Ivoire
CATEGORIES:Le temple de la foi
ORGANIZER;CN="Temple%20de%20la%20Foi":MAILTO:infos@wafoministries.net
GEO:5,39007;-3,99128
X-APPLE-STRUCTURED-LOCATION;VALUE=URI;X-ADDRESS=TEMPLE DE LA FOI TEMPLE DE LA FOI Abidjan Abidjan Côte d'Ivoire;X-APPLE-RADIUS=500;X-TITLE=TEMPLE DE LA FOI:geo:-3,99128,5,39007
END:VEVENT
END:VCALENDAR