BEGIN:VCALENDAR
VERSION:2.0
PRODID:-//Wafo Ministries - ECPv5.1.2.1//NONSGML v1.0//EN
CALSCALE:GREGORIAN
METHOD:PUBLISH
X-WR-CALNAME:Wafo Ministries
X-ORIGINAL-URL:https://wafoministries.net
X-WR-CALDESC:Évènements pour Wafo Ministries
BEGIN:VTIMEZONE
TZID:Africa/Abidjan
BEGIN:STANDARD
TZOFFSETFROM:+0000
TZOFFSETTO:+0000
TZNAME:GMT
DTSTART:20220101T000000
END:STANDARD
END:VTIMEZONE
BEGIN:VEVENT
DTSTART;TZID=Africa/Abidjan:20220116T070000
DTEND;TZID=Africa/Abidjan:20220116T083000
DTSTAMP:20260421T082021
CREATED:20220114T222909Z
LAST-MODIFIED:20220114T222910Z
UID:20136-1642316400-1642321800@wafoministries.net
SUMMARY:1ER CULTE D'ADORATION
DESCRIPTION:Nous sommes en direct tous les dimanches afin de vivre des moments intenses dans l’adoration\, l’action de grâces et la louange à notre Dieu. \n\n\n\n\n
URL:https://wafoministries.net/programme/1er-culte-dadoration-31/
LOCATION:TEMPLE DE LA FOI\, TEMPLE DE LA FOI\, Abidjan\, Abidjan\, Côte d'Ivoire
CATEGORIES:Le temple de la foi
ORGANIZER;CN="Temple%20de%20la%20Foi":MAILTO:infos@wafoministries.net
GEO:5,39007;-3,99128
X-APPLE-STRUCTURED-LOCATION;VALUE=URI;X-ADDRESS=TEMPLE DE LA FOI TEMPLE DE LA FOI Abidjan Abidjan Côte d'Ivoire;X-APPLE-RADIUS=500;X-TITLE=TEMPLE DE LA FOI:geo:-3,99128,5,39007
END:VEVENT
END:VCALENDAR