BEGIN:VCALENDAR
VERSION:2.0
PRODID:-//Wafo Ministries - ECPv5.1.2.1//NONSGML v1.0//EN
CALSCALE:GREGORIAN
METHOD:PUBLISH
X-WR-CALNAME:Wafo Ministries
X-ORIGINAL-URL:https://wafoministries.net
X-WR-CALDESC:Évènements pour Wafo Ministries
BEGIN:VTIMEZONE
TZID:Africa/Abidjan
BEGIN:STANDARD
TZOFFSETFROM:+0000
TZOFFSETTO:+0000
TZNAME:GMT
DTSTART:20250101T000000
END:STANDARD
END:VTIMEZONE
BEGIN:VEVENT
DTSTART;TZID=Africa/Abidjan:20250307T130000
DTEND;TZID=Africa/Abidjan:20250307T140000
DTSTAMP:20260422T144338
CREATED:20250306T233813Z
LAST-MODIFIED:20250306T233813Z
UID:29626-1741352400-1741356000@wafoministries.net
SUMMARY:C'ISH’’A 2025 - 3ÈME JOUR
DESCRIPTION:\n\n\nToute l’actualité de ISH’’A comme si vous y étiez _!\n\nUniquement EN LIGNE à 13H GMT\n\n\n\n Date : Mercredi 05 au Vendredi 07 Mars 2025 – 13H00 GMT\n\n \n
URL:https://wafoministries.net/programme/cisha-2025-3eme-jour/
LOCATION:TEMPLE DE LA FOI\, TEMPLE DE LA FOI\, Abidjan\, Abidjan\, Côte d'Ivoire
CATEGORIES:Le temple de la foi
ORGANIZER;CN="Temple%20de%20la%20Foi":MAILTO:infos@wafoministries.net
GEO:5,39007;-3,99128
X-APPLE-STRUCTURED-LOCATION;VALUE=URI;X-ADDRESS=TEMPLE DE LA FOI TEMPLE DE LA FOI Abidjan Abidjan Côte d'Ivoire;X-APPLE-RADIUS=500;X-TITLE=TEMPLE DE LA FOI:geo:-3,99128,5,39007
END:VEVENT
END:VCALENDAR