BEGIN:VCALENDAR
VERSION:2.0
PRODID:-//Wafo Ministries - ECPv5.1.2.1//NONSGML v1.0//EN
CALSCALE:GREGORIAN
METHOD:PUBLISH
X-WR-CALNAME:Wafo Ministries
X-ORIGINAL-URL:https://wafoministries.net
X-WR-CALDESC:Évènements pour Wafo Ministries
BEGIN:VTIMEZONE
TZID:Africa/Abidjan
BEGIN:STANDARD
TZOFFSETFROM:+0000
TZOFFSETTO:+0000
TZNAME:GMT
DTSTART:20250101T000000
END:STANDARD
END:VTIMEZONE
BEGIN:VEVENT
DTSTART;TZID=Africa/Abidjan:20250306T183000
DTEND;TZID=Africa/Abidjan:20250306T210000
DTSTAMP:20260422T112229
CREATED:20250305T233052Z
LAST-MODIFIED:20250305T233823Z
UID:29599-1741285800-1741294800@wafoministries.net
SUMMARY:ISH''A 2025 - 2ÈME JOUR
DESCRIPTION:\n\n\nNous t’invitons à notre rassemblement annuel et prophétique ISH ‘ ‘A (diminutif de ISH & ISHA) pour être enseigné sur la famille\, cette ossature établie par Dieu dans laquelle\, les humains sont supposés vivre le ciel sur la terre.\nRDV à partir du Mercredi 05 Mars à partir de 18H30 GMT pour l’ouverture de ce fabuleux programme.\n\n\n\n\nThème : DIEU CRÉA L’HOMME ET LA FEMME …\n\nLieu : Temple de la Foi\, 2 Plateaux 7 ème Tranche non loin de l’Ex SONATT\, ou encore en direct sur nos pages.\n\n  \n \nNe te fais pas raconter ce évènement !\n\n\nContacts :\n(+225) 07 07 53 25 63\n(+225) 05 55 44 80 68\n\n
URL:https://wafoministries.net/programme/isha-2025-2eme-jour/
LOCATION:TEMPLE DE LA FOI\, TEMPLE DE LA FOI\, Abidjan\, Abidjan\, Côte d'Ivoire
CATEGORIES:Le temple de la foi
ORGANIZER;CN="Temple%20de%20la%20Foi":MAILTO:infos@wafoministries.net
GEO:5,39007;-3,99128
X-APPLE-STRUCTURED-LOCATION;VALUE=URI;X-ADDRESS=TEMPLE DE LA FOI TEMPLE DE LA FOI Abidjan Abidjan Côte d'Ivoire;X-APPLE-RADIUS=500;X-TITLE=TEMPLE DE LA FOI:geo:-3,99128,5,39007
END:VEVENT
END:VCALENDAR