BEGIN:VCALENDAR
VERSION:2.0
PRODID:-//Wafo Ministries - ECPv5.1.2.1//NONSGML v1.0//EN
CALSCALE:GREGORIAN
METHOD:PUBLISH
X-WR-CALNAME:Wafo Ministries
X-ORIGINAL-URL:https://wafoministries.net
X-WR-CALDESC:Évènements pour Wafo Ministries
BEGIN:VTIMEZONE
TZID:Africa/Abidjan
BEGIN:STANDARD
TZOFFSETFROM:+0000
TZOFFSETTO:+0000
TZNAME:GMT
DTSTART:20260101T000000
END:STANDARD
END:VTIMEZONE
BEGIN:VEVENT
DTSTART;TZID=Africa/Abidjan:20260425T080000
DTEND;TZID=Africa/Abidjan:20260425T140000
DTSTAMP:20260423T135702
CREATED:20260423T004524Z
LAST-MODIFIED:20260423T004524Z
UID:32126-1777104000-1777125600@wafoministries.net
SUMMARY:UMER
DESCRIPTION:Le département d’évangélisation UMER vous donne rendez-vous pour une grande sortie d’évangélisation ce samedi 25 AVRIL 2026 !\n Rassemblement : 07h30 au Temple de la Foi\n Départ : 09h00\nMobilisons-nous massivement pour le salut des âmes en cette année d’Explosion Divine.\nMerci de partager l’information dans tous nos différents groupes de l’église !\nNB : Que les anciens viennent avec leur tee-shirt UMER.\n\nQue le Seigneur vous bénisse abondamment.\n
URL:https://wafoministries.net/programme/umer-3/
LOCATION:TEMPLE DE LA FOI\, TEMPLE DE LA FOI\, Abidjan\, Abidjan\, Côte d'Ivoire
CATEGORIES:Le temple de la foi
ATTACH;FMTTYPE=image/jpeg:https://wafoministries.net/wp-content/uploads/2026/04/UMER-FFF.jpg
ORGANIZER;CN="Temple%20de%20la%20Foi":MAILTO:infos@wafoministries.net
GEO:5,39007;-3,99128
X-APPLE-STRUCTURED-LOCATION;VALUE=URI;X-ADDRESS=TEMPLE DE LA FOI TEMPLE DE LA FOI Abidjan Abidjan Côte d'Ivoire;X-APPLE-RADIUS=500;X-TITLE=TEMPLE DE LA FOI:geo:-3,99128,5,39007
END:VEVENT
END:VCALENDAR