BEGIN:VCALENDAR
VERSION:2.0
PRODID:-//Wafo Ministries - ECPv5.1.2.1//NONSGML v1.0//EN
CALSCALE:GREGORIAN
METHOD:PUBLISH
X-WR-CALNAME:Wafo Ministries
X-ORIGINAL-URL:https://wafoministries.net
X-WR-CALDESC:Évènements pour Wafo Ministries
BEGIN:VTIMEZONE
TZID:Africa/Abidjan
BEGIN:STANDARD
TZOFFSETFROM:+0000
TZOFFSETTO:+0000
TZNAME:GMT
DTSTART:20260101T000000
END:STANDARD
END:VTIMEZONE
BEGIN:VEVENT
DTSTART;TZID=Africa/Abidjan:20260208T073000
DTEND;TZID=Africa/Abidjan:20260208T100000
DTSTAMP:20260421T112324
CREATED:20260206T232847Z
LAST-MODIFIED:20260206T232847Z
UID:31727-1770535800-1770544800@wafoministries.net
SUMMARY:UN DIMANCHE PAS COMME LES AUTRES | 1ER CULTE
DESCRIPTION:Nous vous invitons\, ce 08 février 2026\, à UN DIMANCHE PAS COMME LES AUTRES\, sur le thème :✨LE POUVOIR DU PREMIER NÉ !   Des moments exceptionnels et intenses de louange\, ✨d’adoration à notre Dieu\, et surtout d’enseignement ✨avec le révérend docteur Raoul Wafo. \n\n \n
URL:https://wafoministries.net/programme/un-dimanche-pas-comme-les-autres-1er-culte-21/
LOCATION:TEMPLE DE LA FOI\, TEMPLE DE LA FOI\, Abidjan\, Abidjan\, Côte d'Ivoire
CATEGORIES:Le temple de la foi
ORGANIZER;CN="Temple%20de%20la%20Foi":MAILTO:infos@wafoministries.net
GEO:5,39007;-3,99128
X-APPLE-STRUCTURED-LOCATION;VALUE=URI;X-ADDRESS=TEMPLE DE LA FOI TEMPLE DE LA FOI Abidjan Abidjan Côte d'Ivoire;X-APPLE-RADIUS=500;X-TITLE=TEMPLE DE LA FOI:geo:-3,99128,5,39007
END:VEVENT
END:VCALENDAR